BEGIN:VCALENDAR
VERSION:2.0
PRODID:-//Volc&#039;Animo  - ECPv6.15.20//NONSGML v1.0//EN
CALSCALE:GREGORIAN
METHOD:PUBLISH
X-WR-CALNAME:Volc&#039;Animo 
X-ORIGINAL-URL:https://volcanimo.fr
X-WR-CALDESC:Évènements pour Volc&#039;Animo 
REFRESH-INTERVAL;VALUE=DURATION:PT1H
X-Robots-Tag:noindex
X-PUBLISHED-TTL:PT1H
BEGIN:VTIMEZONE
TZID:Europe/Paris
BEGIN:DAYLIGHT
TZOFFSETFROM:+0100
TZOFFSETTO:+0200
TZNAME:CEST
DTSTART:20240331T010000
END:DAYLIGHT
BEGIN:STANDARD
TZOFFSETFROM:+0200
TZOFFSETTO:+0100
TZNAME:CET
DTSTART:20241027T010000
END:STANDARD
BEGIN:DAYLIGHT
TZOFFSETFROM:+0100
TZOFFSETTO:+0200
TZNAME:CEST
DTSTART:20250330T010000
END:DAYLIGHT
BEGIN:STANDARD
TZOFFSETFROM:+0200
TZOFFSETTO:+0100
TZNAME:CET
DTSTART:20251026T010000
END:STANDARD
BEGIN:DAYLIGHT
TZOFFSETFROM:+0100
TZOFFSETTO:+0200
TZNAME:CEST
DTSTART:20260329T010000
END:DAYLIGHT
BEGIN:STANDARD
TZOFFSETFROM:+0200
TZOFFSETTO:+0100
TZNAME:CET
DTSTART:20261025T010000
END:STANDARD
BEGIN:DAYLIGHT
TZOFFSETFROM:+0100
TZOFFSETTO:+0200
TZNAME:CEST
DTSTART:20270328T010000
END:DAYLIGHT
BEGIN:STANDARD
TZOFFSETFROM:+0200
TZOFFSETTO:+0100
TZNAME:CET
DTSTART:20271031T010000
END:STANDARD
END:VTIMEZONE
BEGIN:VEVENT
DTSTART;TZID=Europe/Paris:20260419T110000
DTEND;TZID=Europe/Paris:20260419T190000
DTSTAMP:20260423T165445
CREATED:20260406T101147Z
LAST-MODIFIED:20260406T154934Z
UID:793-1776596400-1776625200@volcanimo.fr
SUMMARY:LOTO VOLC’ANIMO – 2ᵉ ÉDITION
DESCRIPTION:Après le succès de notre premier loto début 2025\, toute l’équipe de Volc’animo est heureuse de vous annoncer une nouvelle édition ! \nQuelques infos pratiques :  \nOuverture des portes : 11h30Début des jeux : 14h00 \n📍 Complexe Sportif – Blanzat (63) \n\n11 parties + 1 spéciale enfants\nDe nombreux lots à gagner\nTombola sur place\n\n🍟 Restauration & buvette toute la journée \n\n4€ le carton\n10€ les 3 cartons\n\n⚠️ Aucune réservation – places limitées (500) \nVenez nombreux pour un moment convivial et solidaire ! \n 
URL:https://volcanimo.fr/event/loto-volcanimo-2%e1%b5%89-edition/
LOCATION:Complexe Sportif – Blanzat\, Complexe sportif de la croix Saint-Géraud\, BLANZAT\, 63112
END:VEVENT
BEGIN:VEVENT
DTSTART;TZID=Europe/Paris:20260202T190000
DTEND;TZID=Europe/Paris:20260202T210000
DTSTAMP:20260423T165445
CREATED:20260111T103019Z
LAST-MODIFIED:20260118T025355Z
UID:761-1770058800-1770066000@volcanimo.fr
SUMMARY:Assemblée Générale de l'Association
DESCRIPTION:L’Assemblée Générale est un moment clé pour la vie de l’association. Cette année\, nous accueillons tous les adhérents ayant cotisé en 2025.  \nC’est l’occasion de revenir sur l’année écoulée : sauvetages\, adoptions\, soins\, actions de sensibilisation… mais aussi de présenter le bilan financier\, en toute transparence. \nL’AG permet également de se tourner vers l’avenir : projets à venir\, orientations\, décisions importantes\, renouvellement du bureau. Chaque membre peut s’exprimer et voter\, garantissant un fonctionnement pleinement démocratique. Car c’est aussi ça Volc’animo ! \nEnfin\, c’est un vrai moment de rencontre et d’échange entre adhérents. Vous pourrez également renouveler votre adhésion pour 2026! \nNous vous attendons nombreux ! 
URL:https://volcanimo.fr/event/assemblee-generale-de-lassociation/
LOCATION:Salle citoyenne : complexe Sportif de la Croix St-Géraud\, Complexe sportif de la croix Saint-Géraud\, BLANZAT\, 63112\, France
END:VEVENT
BEGIN:VEVENT
DTSTART;TZID=Europe/Paris:20260202T110000
DTEND;TZID=Europe/Paris:20260202T150000
DTSTAMP:20260423T165445
CREATED:20260202T171456Z
LAST-MODIFIED:20260202T171456Z
UID:778-1770030000-1770044400@volcanimo.fr
SUMMARY:🎣 BRUNCH CARITATIF : ROUND 2 ! 🎣
DESCRIPTION:Nous vous donnons rendez-vous le 22 Février à la Potache\, pour le deuxième Round du Brunch Caritatif !  \nRetrouvez-nous pour un moment gourmand et solidaire au profit de Volcanimo.  \nAu programme :  \n\nUn menu 100% végétal (savoureux \, frais et inclusif) \nBoisson chaude et boisson froide incluses\n25€ avec le sourire du serveur\nUne vente aux enchères exclusive pendant les services pour soutenir la cause !\nUn DJ set groovy signé @sakram pour chiller toute la matinée.\n\nNous prévoyons 2 services ! Un à 11h et un à 13h.  \n 
URL:https://volcanimo.fr/event/%f0%9f%8e%a3-brunch-caritatif-round-2-%f0%9f%8e%a3/
LOCATION:Au Potache\, 21 avenue Carnot\, Clermont-Ferrand\, Sélectionner un État :\, 63000\, France
END:VEVENT
BEGIN:VEVENT
DTSTART;TZID=Europe/Paris:20251224T140000
DTEND;TZID=Europe/Paris:20251224T180000
DTSTAMP:20260423T165445
CREATED:20251120T190757Z
LAST-MODIFIED:20251120T190834Z
UID:730-1766584800-1766599200@volcanimo.fr
SUMMARY:Journée “Emballage Cadeau” à Decathlon
DESCRIPTION:Cette année encore\, l’association vous propose ses journées “Emballage Cadeau” à Decathlon ! \nVenez faire emballer vos achats par notre équipe de bénévoles : c’est rapide\, joli… et solidaire.Chaque don nous aide à prendre soin de nos protégés et à continuer nos actions au quotidien.Un petit geste pour vous\, un grand soutien pour eux.
URL:https://volcanimo.fr/event/journee-emballage-cadeau-a-decathlon-5/
LOCATION:Decathlon La Pardieu\, Zone commerciale la Pardieu\, Clermont-Ferrand\, 63000
END:VEVENT
BEGIN:VEVENT
DTSTART;TZID=Europe/Paris:20251221T100000
DTEND;TZID=Europe/Paris:20251221T180000
DTSTAMP:20260423T165445
CREATED:20251120T190708Z
LAST-MODIFIED:20251120T190708Z
UID:727-1766311200-1766340000@volcanimo.fr
SUMMARY:Journée “Emballage Cadeau” à Decathlon
DESCRIPTION:Cette année encore\, l’association vous propose ses journées “Emballage Cadeau” à Decathlon ! \nVenez faire emballer vos achats par notre équipe de bénévoles : c’est rapide\, joli… et solidaire.Chaque don nous aide à prendre soin de nos protégés et à continuer nos actions au quotidien.Un petit geste pour vous\, un grand soutien pour eux.
URL:https://volcanimo.fr/event/journee-emballage-cadeau-a-decathlon-4/
LOCATION:Decathlon La Pardieu\, Zone commerciale la Pardieu\, Clermont-Ferrand\, 63000
END:VEVENT
BEGIN:VEVENT
DTSTART;TZID=Europe/Paris:20251220T000000
DTEND;TZID=Europe/Paris:20251220T235959
DTSTAMP:20260423T165445
CREATED:20251111T135129Z
LAST-MODIFIED:20251111T135129Z
UID:655-1766188800-1766275199@volcanimo.fr
SUMMARY:Marché de Noël de Romagnat
DESCRIPTION:🎄 Retrouvez-nous au Marché de Noël de Romagnat 🎄📅 Le 20 Décembre\, l’association sera présente au marché de Noël de Romagnat.Au programme : stand associatif\, objets et gourmandises\, le tout au profit de nos animaux 🐾.Venez partager un moment convivial et soutenir nos protégés ❤️
URL:https://volcanimo.fr/event/marche-de-noel-de-romagnat/
LOCATION:Château de Bezance\, Avenue de la République\, Avenue de la République\, Romagnat\, 63540\, France
ORGANIZER;CN="Mairie de Romagnat":MAILTO:accueil-mairie@ville-romagnat.fr
END:VEVENT
BEGIN:VEVENT
DTSTART;TZID=Europe/Paris:20251217T140000
DTEND;TZID=Europe/Paris:20251217T190000
DTSTAMP:20260423T165445
CREATED:20251120T190629Z
LAST-MODIFIED:20251120T190629Z
UID:725-1765980000-1765998000@volcanimo.fr
SUMMARY:Journée “Emballage Cadeau” à Decathlon
DESCRIPTION:Cette année encore\, l’association vous propose ses journées “Emballage Cadeau” à Decathlon ! \nVenez faire emballer vos achats par notre équipe de bénévoles : c’est rapide\, joli… et solidaire.Chaque don nous aide à prendre soin de nos protégés et à continuer nos actions au quotidien.Un petit geste pour vous\, un grand soutien pour eux.
URL:https://volcanimo.fr/event/journee-emballage-cadeau-a-decathlon-3/
LOCATION:Decathlon La Pardieu\, Zone commerciale la Pardieu\, Clermont-Ferrand\, 63000
END:VEVENT
BEGIN:VEVENT
DTSTART;TZID=Europe/Paris:20251214T080000
DTEND;TZID=Europe/Paris:20251214T170000
DTSTAMP:20260423T165445
CREATED:20251120T185737Z
LAST-MODIFIED:20251120T185737Z
UID:708-1765699200-1765731600@volcanimo.fr
SUMMARY:Journée emballage cadeaux Leclerc Jouet
DESCRIPTION:Cette année encore\, l’association vous propose ses journées “Emballage Cadeau” à Leclerc jouets ! \nVenez faire emballer vos achats par notre équipe de bénévoles : c’est rapide\, joli… et solidaire.Chaque don nous aide à prendre soin de nos protégés et à continuer nos actions au quotidien.Un petit geste pour vous\, un grand soutien pour eux.
URL:https://volcanimo.fr/event/journee-emballage-cadeaux-leclerc-jouet/
LOCATION:Leclerc Jouet\, 207 Bd Gustave Flaubert\, Clermont-Ferrand\, 63000
END:VEVENT
BEGIN:VEVENT
DTSTART;TZID=Europe/Paris:20251213T140000
DTEND;TZID=Europe/Paris:20251214T180000
DTSTAMP:20260423T165445
CREATED:20251030T180121Z
LAST-MODIFIED:20251030T180121Z
UID:594-1765634400-1765735200@volcanimo.fr
SUMMARY:Marché de Noël d'Orcines
DESCRIPTION:🎄 Retrouvez-nous au Marché de Noël de Orcines 🎄📅 Les 13 et 14 Décembre\, l’association sera présente au marché de Noël de Orcines.Au programme : stand associatif\, objets et gourmandises\, le tout au profit de nos animaux 🐾.Venez partager un moment convivial et soutenir nos protégés ❤️
URL:https://volcanimo.fr/event/marche-de-noel-dorcines/
LOCATION:Salle Omnisports\, 60 route de Limoges\, Orcines\, 63870\, France
END:VEVENT
BEGIN:VEVENT
DTSTART;TZID=Europe/Paris:20251213T100000
DTEND;TZID=Europe/Paris:20251214T180000
DTSTAMP:20260423T165445
CREATED:20251030T180201Z
LAST-MODIFIED:20251030T180201Z
UID:598-1765620000-1765735200@volcanimo.fr
SUMMARY:Marché de Noël de Pont du Château
DESCRIPTION:🎄 Retrouvez-nous au Marché de Noël de Pont du Château 🎄📅 Les 13 et 14 Décembre 2025\, l’association sera présente au marché de Noël de Pont du Château.Au programme : stand associatif\, objets et gourmandises\, le tout au profit de nos animaux 🐾.Venez partager un moment convivial et soutenir nos protégés ❤️
URL:https://volcanimo.fr/event/marche-de-noel-de-pont-du-chateau/
LOCATION:Mairie de Pont-du-château\, Place de l'Hôtel de ville\, Pont-du-Château\, 63430\, France
END:VEVENT
BEGIN:VEVENT
DTSTART;TZID=Europe/Paris:20251212T000000
DTEND;TZID=Europe/Paris:20251212T235959
DTSTAMP:20260423T165445
CREATED:20251130T121453Z
LAST-MODIFIED:20251130T121453Z
UID:740-1765497600-1765583999@volcanimo.fr
SUMMARY:Le parcours solidaire du golf du Val d’Auzon
DESCRIPTION:Retrouvez-nous au Golf du Val d’Auzon le 12 décembre pour une grande journée solidaire ! \nParticipez à un parcours dont l’intégralité des droits d’entrée sera reversée à l’association pour soutenir nos animaux dans le besoin. \nDe 9h à 14h\, nos bénévoles tiendront également un stand dédié avec nos produits aux couleurs de l’association : l’occasion de faire une bonne action tout en découvrant de jolies idées cadeaux. \nNous vous attendons nombreux pour partager ce moment sportif\, chaleureux et solidaire !
URL:https://volcanimo.fr/event/le-parcours-solidaire-du-golf-du-val-dauzon/
LOCATION:Golf du Val d’Auzon\, Chemin du Val d'Auzon\, Le Crest\, 63450\, France
END:VEVENT
BEGIN:VEVENT
DTSTART;TZID=Europe/Paris:20251207T100000
DTEND;TZID=Europe/Paris:20251207T170000
DTSTAMP:20260423T165445
CREATED:20251030T180221Z
LAST-MODIFIED:20251030T180221Z
UID:588-1765101600-1765126800@volcanimo.fr
SUMMARY:Marché de Noël Saint-Ours-les-Roches
DESCRIPTION:🎄 Retrouvez-nous au Marché de Noël de  Saint-Ours-les-Roches 🎄📅 Le 7 Décembre\, l’association sera présente au marché de Noël de Saint-Ours-les-Roches.Au programme : stand associatif\, objets et gourmandises\, le tout au profit de nos animaux 🐾.Venez partager un moment convivial et soutenir nos protégés ❤️
URL:https://volcanimo.fr/event/marche-de-noel-saint-ours-les-roches/
LOCATION:Salle polyvalente de Saint Ours\, Rue du Stade\, Saint-Ours-les-Roches\, 63230\, France
END:VEVENT
BEGIN:VEVENT
DTSTART;TZID=Europe/Paris:20251207T000000
DTEND;TZID=Europe/Paris:20251207T235959
DTSTAMP:20260423T165445
CREATED:20251111T135724Z
LAST-MODIFIED:20251111T135724Z
UID:662-1765065600-1765151999@volcanimo.fr
SUMMARY:Marché de Noël de Mezel
DESCRIPTION:🎄 Retrouvez-nous au Marché de Noël de Mezel 🎄📅 Le 7 Décembre\, l’association sera présente au marché de Noël de Mezel.Au programme : stand associatif\, objets et gourmandises\, le tout au profit de nos animaux 🐾.Venez partager un moment convivial et soutenir nos protégés ❤️
URL:https://volcanimo.fr/event/marche-de-noel-de-mezel/
LOCATION:88 Rue Guyot Dessaigne\, 88 Rue Guyot Dessaigne\, Mezel\, 63115\, France
END:VEVENT
BEGIN:VEVENT
DTSTART;TZID=Europe/Paris:20251206T100000
DTEND;TZID=Europe/Paris:20251206T180000
DTSTAMP:20260423T165445
CREATED:20251030T180248Z
LAST-MODIFIED:20251030T180248Z
UID:583-1765015200-1765044000@volcanimo.fr
SUMMARY:Marché de Noël Olby
DESCRIPTION:🎄 Retrouvez-nous au Marché de Noël de Olby 🎄📅 Le 6 Décembre 2025\, l’association sera présente au marché de Noël de Olby.Au programme : stand associatif\, objets et gourmandises\, le tout au profit de nos animaux 🐾.Venez partager un moment convivial et soutenir nos protégés ❤️
URL:https://volcanimo.fr/event/marche-de-noel-olby/
LOCATION:Salle polyvalente Olby\, Bourg d'Olby\, OLBY\, 63210
END:VEVENT
BEGIN:VEVENT
DTSTART;TZID=Europe/Paris:20251205T140000
DTEND;TZID=Europe/Paris:20251205T190000
DTSTAMP:20260423T165445
CREATED:20251120T190433Z
LAST-MODIFIED:20251120T190433Z
UID:721-1764943200-1764961200@volcanimo.fr
SUMMARY:Journée “Emballage Cadeau” à Decathlon
DESCRIPTION:Cette année encore\, l’association vous propose ses journées “Emballage Cadeau” à Decathlon ! \nVenez faire emballer vos achats par notre équipe de bénévoles : c’est rapide\, joli… et solidaire.Chaque don nous aide à prendre soin de nos protégés et à continuer nos actions au quotidien.Un petit geste pour vous\, un grand soutien pour eux.
URL:https://volcanimo.fr/event/journee-emballage-cadeau-a-decathlon-2/
LOCATION:Decathlon La Pardieu\, Zone commerciale la Pardieu\, Clermont-Ferrand\, 63000
END:VEVENT
BEGIN:VEVENT
DTSTART;TZID=Europe/Paris:20251203T140000
DTEND;TZID=Europe/Paris:20251203T190000
DTSTAMP:20260423T165445
CREATED:20251120T190146Z
LAST-MODIFIED:20251120T190926Z
UID:717-1764770400-1764788400@volcanimo.fr
SUMMARY:Journée “Emballage Cadeau” à Decathlon
DESCRIPTION:Cette année encore\, l’association vous propose ses journées “Emballage Cadeau” à Decathlon ! \nVenez faire emballer vos achats par notre équipe de bénévoles : c’est rapide\, joli… et solidaire.Chaque don nous aide à prendre soin de nos protégés et à continuer nos actions au quotidien.Un petit geste pour vous\, un grand soutien pour eux.
URL:https://volcanimo.fr/event/journee-emballage-cadeau-a-decathlon/
LOCATION:Decathlon La Pardieu\, Zone commerciale la Pardieu\, Clermont-Ferrand\, 63000
END:VEVENT
BEGIN:VEVENT
DTSTART;TZID=Europe/Paris:20251130T100000
DTEND;TZID=Europe/Paris:20251130T180000
DTSTAMP:20260423T165445
CREATED:20251030T180311Z
LAST-MODIFIED:20251030T180311Z
UID:573-1764496800-1764525600@volcanimo.fr
SUMMARY:Marché de Noël de Blanzat
DESCRIPTION:🎄 Retrouvez-nous au Marché de Noël de Blanzat 🎄 \n📅 Le 30 novembre\, l’association sera présente au marché de Noël de Blanzat au Complexe Sportif de la Croix St-Géraud. \nVenez nous rencontrer et soutenir nos protégés 🐾✨
URL:https://volcanimo.fr/event/marche-de-noel-de-blanzat/
LOCATION:Blanzat\, Complexe sportif de la croix Saint-Géraud\, BLANZAT\, 63112\, France
ORGANIZER;CN="Mairie de Blanzat":MAILTO:contact@ville-blanzat.fr
END:VEVENT
BEGIN:VEVENT
DTSTART;TZID=Europe/Paris:20251122T100000
DTEND;TZID=Europe/Paris:20251123T180000
DTSTAMP:20260423T165445
CREATED:20251030T180344Z
LAST-MODIFIED:20251030T180344Z
UID:567-1763805600-1763920800@volcanimo.fr
SUMMARY:Marché de Noël de Lempdes
DESCRIPTION:🎄 Retrouvez-nous au Marché de Noël de Lempdes 🎄 \n📅 Les 22 et 23 novembre\, l’association sera présente au marché de Noël de Lempdes. \nVenez nous rencontrer et soutenir nos protégés 🐾✨
URL:https://volcanimo.fr/event/marche-de-noel-de-lempdes/
LOCATION:Espace 2Deuche – 14 rue Alexandre Vialatte\, 14 rue Alexandre Vialatte\, Lempdes\, 63370\, France
ORGANIZER;CN="Mairie de Lemdpes":MAILTO:contact@mairie-lempdes.fr
END:VEVENT
BEGIN:VEVENT
DTSTART;TZID=Europe/Paris:20251004T100000
DTEND;TZID=Europe/Paris:20251004T190000
DTSTAMP:20260423T165445
CREATED:20250927T074145Z
LAST-MODIFIED:20250927T074145Z
UID:550-1759572000-1759604400@volcanimo.fr
SUMMARY:🐾 Collecte Do&Ka 🐾
DESCRIPTION:L’association Volc’Animo organise\, en partenariat avec le magasin Do&Ka Lempdes\, une grande collecte pour animaux le samedi 4 octobre de 10h à 19h. \nTous vos dons permettront d’aider nos animaux dans le besoin.  \n Le magasin Do&Ka Lempdes (en face de Grand Frais\, à côté de Electrodépot) ouvert depuis le 30 juillet\, est déjà une belle référence pour les amoureux des animaux. Anthony et Virginie\, les gérants\, vous accueillent avec chaleur et conseils personnalisés. Leur objectif : proposer une vraie expérience client\, avec une large sélection de produits de qualité\, souvent français : \n Croquettes et pâtés Ambrosia \n Les Recettes de Daniel : croquettes et compléments alimentaires \n Friandises au saumon Marty & Dan \n Jouets\, accessoires\, hygiène\, soins\, couchages\, transport… et bien plus ! \n Un grand rayon vrac (friandises chien : poisson\, poulet\, canard) \n Un espace BARF (viande crue congelée) \n Do&Ka Lempdes est le 10ᵉ magasin de cette jeune franchise née à Montpellier\, avec une vraie passion pour le bien-être animal. \n  \n Rendez-vous le samedi 4 octobre pour une journée solidaire au profit de nos animaux à l’adoption
URL:https://volcanimo.fr/event/%f0%9f%90%be-collecte-doka-%f0%9f%90%be/
LOCATION:25 Rue de la Rochelle\, 63370 Lempdes\, 25 Rue de la Rochelle\, Lempdes\, 63370\, France
END:VEVENT
BEGIN:VEVENT
DTSTART;TZID=Europe/Paris:20250914T080000
DTEND;TZID=Europe/Paris:20250914T170000
DTSTAMP:20260423T165445
CREATED:20250907T090958Z
LAST-MODIFIED:20250907T091105Z
UID:516-1757836800-1757869200@volcanimo.fr
SUMMARY:Oberytmé - Dog dancing a Dallet!
DESCRIPTION:Retrouvez Volc’animo le 14 septembre dans la commune de Mur-sur-Allier! Nous serons présent cette année encore sur l’evenement organisé par 4 Pattes & Compagnie.\nLe club canin 4 pattes & compagnie vous invite à découvrir une discipline originale et pleine de complicité : le Dog Dancing !\n\n\nMais qu’est-ce que c’est exactement ?\n\nLe Dog Dancing est une activité qui associe obéissance canine\, figures ludiques et chorégraphie en musique. Chien et maître évoluent ensemble dans une véritable danse\, où la confiance et la joie sont au cœur du spectacle. \nRendez-vous dès 8h sur les quais d’Allier à Dallet pour admirer ce concours\, animé par Anne-Marie Préau. \n\n\n\nUne buvette sera sur place pour partager un moment convivial.\n\n\nInfos et inscriptions : Sylvie Bourgoin au 06.34.60.40.07\n \n 
URL:https://volcanimo.fr/event/oberytme-dog-dancing-a-dallet/
LOCATION:Quai d’Allier\, Quai d'Allier\, Mur-sur-Allier\, 63111\, France
END:VEVENT
BEGIN:VEVENT
DTSTART;TZID=Europe/Paris:20250906T100000
DTEND;TZID=Europe/Paris:20250907T180000
DTSTAMP:20260423T165445
CREATED:20250818T144237Z
LAST-MODIFIED:20250818T144237Z
UID:432-1757152800-1757268000@volcanimo.fr
SUMMARY:Terroir en fête
DESCRIPTION:Terroir en Fête revient à Cébazat !  Nous y participerons cette année encore grâce à nos super bénévoles!\n\n\nVenez nous rencontrer pour ce bel évènement\, afin d’échanger sur l’association!\n 
URL:https://volcanimo.fr/event/terroir-en-fete/
LOCATION:Parc Pierre-Montgroux\, 2 Rue du Grillon\, Cébazat\, 63118\, France
END:VEVENT
END:VCALENDAR